BEGIN:VCALENDAR
VERSION:2.0
PRODID:-//ChamberMaster//Event Calendar 2.0//EN
METHOD:PUBLISH
X-PUBLISHED-TTL:P3D
REFRESH-INTERVAL:P3D
CALSCALE:GREGORIAN
BEGIN:VEVENT
DTSTART;VALUE=DATE:20120417
DTEND;VALUE=DATE:20120418
TRANSP:TRANSPARENT
X-MICROSOFT-CDO-ALLDAYEVENT:TRUE
SUMMARY:Members Briefing with Ambassador William Todd\, April 17\, Washington DC - Apr 17 2012
DESCRIPTION:
X-ALT-DESC;FMTTYPE=text/html:
LOCATION:
UID:e.9078.471
SEQUENCE:3
DTSTAMP:20260425T034500Z
URL:http://memberzone.usasean.org/events/details/members-briefing-with-ambassador-william-todd-april-17-washington-dc-apr-17-2012-04-17-2012-471
END:VEVENT

END:VCALENDAR
