BEGIN:VCALENDAR
VERSION:2.0
PRODID:-//ChamberMaster//Event Calendar 2.0//EN
METHOD:PUBLISH
X-PUBLISHED-TTL:P3D
REFRESH-INTERVAL:P3D
CALSCALE:GREGORIAN
BEGIN:VEVENT
DTSTART:20210203T013000Z
DTEND:20210203T023000Z
X-MICROSOFT-CDO-ALLDAYEVENT:FALSE
SUMMARY:Member Discussion on the Situation in Myanmar
DESCRIPTION:
X-ALT-DESC;FMTTYPE=text/html:
LOCATION:
UID:e.9078.8383
SEQUENCE:3
DTSTAMP:20260420T033419Z
URL:http://memberzone.usasean.org/events/details/member-discussion-on-the-situation-in-myanmar-8383
END:VEVENT

END:VCALENDAR
