BEGIN:VCALENDAR
VERSION:2.0
PRODID:-//ChamberMaster//Event Calendar 2.0//EN
METHOD:PUBLISH
X-PUBLISHED-TTL:P3D
REFRESH-INTERVAL:P3D
CALSCALE:GREGORIAN
BEGIN:VEVENT
DTSTART:20191105T153000Z
DTEND:20191105T170000Z
X-MICROSOFT-CDO-ALLDAYEVENT:FALSE
SUMMARY:Mekong Infrastructure Tracker Interactive Group Discussion
DESCRIPTION:The Stimson Center\, The Asia Foundation\, and USAID are pleased to invite you to participate in an interactive group discussion on the launch of the Mekong Infrastructure Tracker from 10:30 AM   12:00 PM on November 5\, 2019. The Mekong Infrastructure Tracker aspires to be the premier online resource for researchers and planners to track\, monitor\, and quantify the development of energy\, transportation\, and water infrastructure assets and the social\, economic\, and ecological changes they bring to the Mekong region and Southeast Asia. The discussion will be held at the Stimson Center\, 1211 Connecticut Ave NW\, 8th Floor\, Washington DC. The Mekong Infrastructure Tracker is a product of USAID's Mekong Safeguards Project (2018-2023).\n\n\n\nDuring the group discussion\, participants will access the online platform to find data on more than 2900 infrastructure projects for power generation\, transportation\, and water sectors in the ASEAN countries.
X-ALT-DESC;FMTTYPE=text/html:<p class="Default">The Stimson Center\, The Asia Foundation\, and USAID are pleased to invite you to participate in an interactive group discussion on the launch of the Mekong Infrastructure Tracker from <strong>10:30 AM &ndash\; 12:00 PM on November 5\, 2019</strong>. The Mekong Infrastructure Tracker aspires to be the premier online resource for researchers and planners to track\, monitor\, and quantify the development of energy\, transportation\, and water infrastructure assets and the social\, economic\, and ecological changes they bring to the Mekong region and Southeast Asia. The discussion will be held at the Stimson Center\, 1211 Connecticut Ave NW\, 8th Floor\, Washington DC. The Mekong Infrastructure Tracker is a product of USAID&rsquo\;s Mekong Safeguards Project (2018-2023).<br />\n<br />\nDuring the group discussion\, participants will access the online platform to find data on more than 2900 infrastructure projects for power generation\, transportation\, and water sectors in the ASEAN countries.</p>\n
LOCATION:Stimson Center 1211 Connecticut Ave NW 8th Floor Washington\, DC
UID:e.9078.8067
SEQUENCE:3
DTSTAMP:20260424T200035Z
URL:http://memberzone.usasean.org/events/details/mekong-infrastructure-tracker-interactive-group-discussion-8067
END:VEVENT

END:VCALENDAR
