BEGIN:VCALENDAR
VERSION:2.0
PRODID:-//ChamberMaster//Event Calendar 2.0//EN
METHOD:PUBLISH
X-PUBLISHED-TTL:P3D
REFRESH-INTERVAL:P3D
CALSCALE:GREGORIAN
BEGIN:VEVENT
DTSTART:20140423T143000Z
DTEND:20140423T153000Z
X-MICROSOFT-CDO-ALLDAYEVENT:FALSE
SUMMARY:Meeting with Vietnam's Ministry of Agriculture and Rural Development
DESCRIPTION:We are pleased to have the opportunity to meet with Vice Minister Vu Van Tam of Vietnam's Ministry of Agriculture and Rural Development\, who will be visiting Washington\, DC to meet with public and private stakeholders on agriculture exports to Vietnam. This will be a great opportunity for members to engage with the Vice Minister and high level officials from the Ministry\, as well as learn about the Ministry's priorities.\n\n\n\nMembers of the Delegation\n\nH.E. Mr. Vu Van Tam\, MARD Deputy Minister   Head of Delegation\;\n\nH.E. Mr. Nguyen Quoc Cuong\, Ambassador to the US\;\n\nMr. Tran Van Cong\, Deputy Director General\, International Cooperation Department\, MARD\;\n\nMr. Tran Dinh Luan\, Director\, Aquaculture Department\, Directorate of Fisheries\, MARD\;\n\nMrs. Nguyen Thi Trang Nhung\, Deputy Director\, Science\, Technology and International Cooperation Department\, Directorate of Fisheries\, MARD\; \n\nMrs. Tran Bich Nga\, Deputy Director General\, National Agro-forestry-fishery Quality Assurance Department\;\n\nDr. Hoang Trung\, Deputy Director General\, Plant Protection Department\;\n\nDr. Dam Xuan Thanh\, Deputy Director General\, Animal Health Department\;\n\nMr. Pham Quang Huy\, Specialist\, International Cooperation Department\;\n\nMr. Truong Dinh Hoe\, General Secretary\, Vietnam Association of Seafood Exporters and Producers.\n\n\n\nFor Vice Minister Vu Van Tam's bio\, please click here.
X-ALT-DESC;FMTTYPE=text/html:<span style="font-family:arial\,sans-serif\;"><span style="font-size:10.0pt\;">We are pleased to have the opportunity to meet with Vice Minister Vu Van Tam of Vietnam&#39\;s Ministry of Agriculture and Rural Development\, who will be visiting Washington\, DC to meet with public and private stakeholders on agriculture exports to Vietnam. This will be a great opportunity for members to engage with the Vice Minister and high level officials from the Ministry\, as well as learn about the Ministry&#39\;s priorities.</span></span><br />\n<br />\n<strong><span style="font-family:arial\,sans-serif\;"><span style="font-size:10.0pt\;">Members of the Delegation</span></span></strong><br />\n<span style="font-family:arial\,sans-serif\;"><span style="font-size:10.0pt\;">H.E. Mr. Vu Van Tam\, MARD Deputy Minister &ndash\; Head of Delegation\;</span></span><br />\n<span style="font-family:arial\,sans-serif\;"><span style="font-size:10.0pt\;">H.E. Mr. Nguyen Quoc Cuong\, Ambassador to the US\;</span></span><br />\n<span style="font-family:arial\,sans-serif\;"><span style="font-size:10.0pt\;">Mr. Tran Van Cong\, Deputy Director General\, International Cooperation Department\, MARD\;</span></span><br />\n<span style="font-family:arial\,sans-serif\;"><span style="font-size:10.0pt\;">Mr. Tran Dinh Luan\, Director\, Aquaculture Department\, Directorate of Fisheries\, MARD\;</span></span><br />\n<span style="font-family:arial\,sans-serif\;"><span style="font-size:10.0pt\;">Mrs. Nguyen Thi Trang Nhung\, Deputy Director\, Science\, Technology and International Cooperation Department\, Directorate of Fisheries\, MARD\; </span></span><br />\n<span style="font-family:arial\,sans-serif\;"><span style="font-size:10.0pt\;">Mrs. Tran Bich Nga\, Deputy Director General\, National Agro-forestry-fishery Quality Assurance Department\;</span></span><br />\n<span style="font-family:arial\,sans-serif\;"><span style="font-size:10.0pt\;">Dr. Hoang Trung\, Deputy Director General\, Plant Protection Department\;</span></span><br />\n<span style="font-family:arial\,sans-serif\;"><span style="font-size:10.0pt\;">Dr. Dam Xuan Thanh\, Deputy Director General\, Animal Health Department\;</span></span><br />\n<span style="font-family:arial\,sans-serif\;"><span style="font-size:10.0pt\;">Mr. Pham Quang Huy\, Specialist\, International Cooperation Department\;</span></span><br />\n<span style="font-family:arial\,sans-serif\;"><span style="font-size:10.0pt\;">Mr. Truong Dinh Hoe\, General Secretary\, Vietnam Association of Seafood Exporters and Producers.</span></span><br />\n<br />\n<span style="font-family:arial\,sans-serif\;"><span style="font-size:10.0pt\;">For Vice Minister Vu Van Tam&#39\;s bio\, <a href="http://cloud.chambermaster.com/userfiles/UserFiles/chambers/9078/File/FoodAg/CVTTVuVanTam.pdf">please click here</a>.</span></span><br />\n&nbsp\;
LOCATION:US-ASEAN Business Council\, Inc. 1101 17th St. NW (Suite 411) Washington\, DC 20036
UID:e.9078.1120
SEQUENCE:3
DTSTAMP:20260420T154135Z
URL:http://memberzone.usasean.org/events/details/meeting-with-vietnam-s-ministry-of-agriculture-and-rural-development-04-23-2014-1120
END:VEVENT

END:VCALENDAR
