BEGIN:VCALENDAR
VERSION:2.0
PRODID:-//ChamberMaster//Event Calendar 2.0//EN
METHOD:PUBLISH
X-PUBLISHED-TTL:P3D
REFRESH-INTERVAL:P3D
CALSCALE:GREGORIAN
BEGIN:VEVENT
DTSTART:20150320T130000Z
DTEND:20150320T140000Z
X-MICROSOFT-CDO-ALLDAYEVENT:FALSE
SUMMARY:Meeting with Tom Cutler to discuss barriers to trade and investment in the Energy Sector in APEC
DESCRIPTION:The Energy Committee would like to convene a meeting to discuss barriers to trade and investment in the APEC and ASEAN region. We will be joined by Tom Cutler of Cutler International Inc (formerly of the U.S. Department of Energy). \n\n\n\nLast year the APEC Leaders and Energy Ministers instructed the APEC Energy Working Group to work more closely with the private sector to identify barriers to trade and investment in the energy sector. \n\n\n\nThe APEC Business Advisory Council (ABAC) is currently exploring the idea of commission a paper that would identify common and/or significant barriers tin the region.
X-ALT-DESC;FMTTYPE=text/html:The Energy Committee would like to convene a meeting to discuss barriers to trade and investment in the APEC and ASEAN region. We will be joined by Tom Cutler of Cutler International Inc (formerly of the U.S. Department of Energy).&nbsp\;<br />\n<br />\nLast year the APEC&nbsp\;Leaders and Energy Ministers instructed the APEC Energy Working Group to work more closely with the private sector to identify barriers to trade and investment in the energy sector.&nbsp\;<br />\n<br />\nThe APEC Business Advisory Council (ABAC) is currently exploring the idea of commission a paper that would identify common and/or significant barriers tin the region.&nbsp\;
LOCATION:US-ASEAN Business Council 1101 17th Street NW\, Suite 411 Washington D.C.
UID:e.9078.1511
SEQUENCE:3
DTSTAMP:20260419T190024Z
URL:http://memberzone.usasean.org/events/details/meeting-with-tom-cutler-to-discuss-barriers-to-trade-and-investment-in-the-energy-sector-in-apec-03-20-2015-1511
END:VEVENT

END:VCALENDAR
