BEGIN:VCALENDAR
VERSION:2.0
PRODID:-//ChamberMaster//Event Calendar 2.0//EN
METHOD:PUBLISH
X-PUBLISHED-TTL:P3D
REFRESH-INTERVAL:P3D
CALSCALE:GREGORIAN
BEGIN:VEVENT
DTSTART:20140403T140000Z
DTEND:20140403T153000Z
X-MICROSOFT-CDO-ALLDAYEVENT:FALSE
SUMMARY:Meeting with the Office of the Presidential Advisor for Rehabilitation and Recovery (PARR)
DESCRIPTION:Meeting with the Office of the Presidential Advisor for Rehabilitation and Recovery (PARR)
X-ALT-DESC;FMTTYPE=text/html:Meeting with the Office of the Presidential Advisor for Rehabilitation and Recovery (PARR)
LOCATION:Manila\, Philippines Hewlett Packard Philippines Office McKinley Hill\, Bonifacio Global City Taguig City
UID:e.9078.1098
SEQUENCE:3
DTSTAMP:20260420T154302Z
URL:http://memberzone.usasean.org/events/details/meeting-with-the-office-of-the-presidential-advisor-for-rehabilitation-and-recovery-parr-04-03-2014-1098
END:VEVENT

END:VCALENDAR
