BEGIN:VCALENDAR
VERSION:2.0
PRODID:-//ChamberMaster//Event Calendar 2.0//EN
METHOD:PUBLISH
X-PUBLISHED-TTL:P3D
REFRESH-INTERVAL:P3D
CALSCALE:GREGORIAN
BEGIN:VEVENT
DTSTART;VALUE=DATE:20110914
DTEND;VALUE=DATE:20110915
TRANSP:TRANSPARENT
X-MICROSOFT-CDO-ALLDAYEVENT:TRUE
SUMMARY:Meeting with Philippine Milling Executives - Sep 14 2011
DESCRIPTION:
X-ALT-DESC;FMTTYPE=text/html:
LOCATION:
UID:e.9078.461
SEQUENCE:3
DTSTAMP:20260426T012545Z
URL:http://memberzone.usasean.org/events/details/meeting-with-philippine-milling-executives-sep-14-2011-09-14-2011-461
END:VEVENT

END:VCALENDAR
