BEGIN:VCALENDAR
VERSION:2.0
PRODID:-//ChamberMaster//Event Calendar 2.0//EN
METHOD:PUBLISH
X-PUBLISHED-TTL:P3D
REFRESH-INTERVAL:P3D
CALSCALE:GREGORIAN
BEGIN:VEVENT
DTSTART:20121206T234500Z
DTEND:20121207T004500Z
X-MICROSOFT-CDO-ALLDAYEVENT:FALSE
SUMMARY:Meeting with Ambassador Yuri O. Thamrin\, Director-General for Asia-Pacific and Africa\, Ministry of Foreign Affairs
DESCRIPTION:Discussion with H.E. Yuri O. Thamrin\, Director-General for Asia-Pacific and Africa Affairs\, Ministry of Foreign Affairs\, Indonesia
X-ALT-DESC;FMTTYPE=text/html:Discussion with H.E. Yuri O. Thamrin\, Director-General for Asia-Pacific and Africa Affairs\, Ministry of Foreign Affairs\, Indonesia
LOCATION:J.W. Marriott Hotel\, Kuningan\, Jakarta
UID:e.9078.655
SEQUENCE:3
DTSTAMP:20260424T143230Z
URL:http://memberzone.usasean.org/events/details/meeting-with-ambassador-yuri-o-thamrin-director-general-for-asia-pacific-and-africa-ministry-of-foreign-affairs-12-06-2012-655
END:VEVENT

END:VCALENDAR
