BEGIN:VCALENDAR
VERSION:2.0
PRODID:-//ChamberMaster//Event Calendar 2.0//EN
METHOD:PUBLISH
X-PUBLISHED-TTL:P3D
REFRESH-INTERVAL:P3D
CALSCALE:GREGORIAN
BEGIN:VEVENT
DTSTART:20121205T220000Z
DTEND:20121205T233000Z
X-MICROSOFT-CDO-ALLDAYEVENT:FALSE
SUMMARY:Meeting with Amb. Atul Keshap\, U.S. Senior Official for APEC\; Mr. Ed Brzytwa\, Director for APEC Affairs\, Office of the United States Trade Representative
DESCRIPTION:Discussion with Atul Keshap\, U.S. Senior Official for APEC\; Ed Brzytwa\, Director for APEC Affairs\, Office of the U.S. Trade Representative\; Robert Modarelli\, Executive Vice President U.S. National Center for APEC (NCAPEC)\; and Alex Parle-Vice President ABAC Relations-U.S. National Center for APEC (NCAPEC)
X-ALT-DESC;FMTTYPE=text/html:<span style="font-family:arial\;"><span style="font-size: 12px\;">Discussion with Atul Keshap\, U.S. Senior Official for APEC\; Ed Brzytwa\, Director for APEC Affairs\, Office of the U.S. Trade Representative\; Robert Modarelli\, Executive Vice President U.S. National Center for APEC (NCAPEC)\; and Alex Parle-Vice President ABAC Relations-U.S. National Center for APEC (NCAPEC)</span></span>
LOCATION:Jakarta
UID:e.9078.657
SEQUENCE:3
DTSTAMP:20260424T162032Z
URL:http://memberzone.usasean.org/events/details/meeting-with-amb-atul-keshap-u-s-senior-official-for-apec-mr-ed-brzytwa-director-for-apec-affairs-office-of-the-united-states-trade-representative-12-05-2012-657
END:VEVENT

END:VCALENDAR
