BEGIN:VCALENDAR
VERSION:2.0
PRODID:-//ChamberMaster//Event Calendar 2.0//EN
METHOD:PUBLISH
X-PUBLISHED-TTL:P3D
REFRESH-INTERVAL:P3D
CALSCALE:GREGORIAN
BEGIN:VEVENT
DTSTART:20150327T030000Z
DTEND:20150327T043000Z
X-MICROSOFT-CDO-ALLDAYEVENT:FALSE
SUMMARY:Meeting on Establishment of Commercial Health Working Group in Indonesia
DESCRIPTION:
X-ALT-DESC;FMTTYPE=text/html:
LOCATION:Commercial Section Conference Room U.S. Embassy Jakarta\, Indonesia World Trade Center 6\, 3rd FL Jl Jendral Sudirman Kav 29-31 Jakarta Selatan 12920
UID:e.9078.1519
SEQUENCE:3
DTSTAMP:20260419T190018Z
URL:http://memberzone.usasean.org/events/details/meeting-on-establishment-of-commercial-health-working-group-in-indonesia-03-27-2015-1519
END:VEVENT

END:VCALENDAR
