BEGIN:VCALENDAR
VERSION:2.0
PRODID:-//ChamberMaster//Event Calendar 2.0//EN
METHOD:PUBLISH
X-PUBLISHED-TTL:P3D
REFRESH-INTERVAL:P3D
CALSCALE:GREGORIAN
BEGIN:VEVENT
DTSTART:20140429T130000Z
DTEND:20140429T170000Z
X-MICROSOFT-CDO-ALLDAYEVENT:FALSE
SUMMARY:Managing Your Supply Chain: Addressing the Risk of Unauthorized Software
DESCRIPTION:For U.S. companies\, use of pirated and unlicensed software by local supply chain partners poses a serious threat it can lead to supply disruptions\, legal risks\, reputational harm\, and more. These threats are no different from other supply chain threats\, like use of child labor\, product safety issues\, etc.\n\nWhile many U.S. companies take action to directly address supply chain threats in the areas of labor\, safety\, and the environment\, far fewer take measures to identify\, mitigate and control the risks of illegal software use by their supply chain partners.\n\n\n\nBSA | The Software Alliance\, in cooperation with the US-ASEAN Business Council\, would like to help Thailand-based U.S. companies review and address the substantial risks related to the use of pirated and unlicensed software in their local supply chains. Please join us for a seminar on April 29th \, where we will bring together experts on the issue to discuss how these risks arise and review best practices and guidelines for effectively managing them.\n\n  \n\nFull details of the program are provided in the agenda here.\n\n\n\nTo RSVP\, please complete the attached registration form here and return it to Ms. Pinta Punsoni\, Coordinator\, Events & Public Relations at Tilleke & Gibbins (pinta.p@tilleke.com). For more information\, please call Ms. Punsoni at 02 653 5546. Reservations will be accepted until COB April 22nd\, or until all seats allotted for invited guests have been booked.
X-ALT-DESC;FMTTYPE=text/html:For U.S. companies\, use of pirated and unlicensed software by local supply chain partners poses a serious threat&mdash\;it can lead to supply disruptions\, legal risks\, reputational harm\, and more. These threats are no different from other supply chain threats\, like use of child labor\, product safety issues\, etc.<br />\nWhile many U.S. companies take action to directly address supply chain threats in the areas of labor\, safety\, and the environment\, far fewer take measures to identify\, mitigate and control the risks of illegal software use by their supply chain partners.<br />\n<br />\nBSA | The Software Alliance\, in cooperation with the US-ASEAN Business Council\, would like to help Thailand-based U.S. companies review and address the substantial risks related to the use of pirated and unlicensed software in their local supply chains. Please join us for a seminar on April 29th \, where we will bring together experts on the issue to discuss how these risks arise and review best practices and guidelines for effectively managing them.<br />\n&nbsp\;&nbsp\;<br />\nFull details of the program are provided in the agenda <strong><a href="http://cloud.chambermaster.com/userfiles/UserFiles/chambers/9078/File/BSA-USASEANSeminar.docx">here</a></strong>.<br />\n<br />\nTo RSVP\, please complete the attached registration form <strong><a href="http://cloud.chambermaster.com/userfiles/UserFiles/chambers/9078/File/RegistrationForm_BSA-USASEANSeminar.docx">here</a></strong> and return it to Ms. Pinta Punsoni\, Coordinator\, Events &amp\; Public Relations at Tilleke &amp\; Gibbins (<a href="mailto:pinta.p@tilleke.com">pinta.p@tilleke.com</a>). For more information\, please call Ms. Punsoni at 02 653 5546. <strong>Reservations will be accepted until COB April 22nd\, or until all seats allotted for invited guests have been booked.</strong>
LOCATION:JW Marriott\, Bangkok
UID:e.9078.1099
SEQUENCE:3
DTSTAMP:20260420T151743Z
URL:http://memberzone.usasean.org/events/details/managing-your-supply-chain-addressing-the-risk-of-unauthorized-software-04-29-2014-1099
END:VEVENT

END:VCALENDAR
