BEGIN:VCALENDAR
VERSION:2.0
PRODID:-//ChamberMaster//Event Calendar 2.0//EN
METHOD:PUBLISH
X-PUBLISHED-TTL:P3D
REFRESH-INTERVAL:P3D
CALSCALE:GREGORIAN
BEGIN:VEVENT
DTSTART:20210831T010000Z
DTEND:20210831T020000Z
X-MICROSOFT-CDO-ALLDAYEVENT:FALSE
SUMMARY:Malaysia Political Update
DESCRIPTION:Zoom Dial-in details will be circulated prior to call
X-ALT-DESC;FMTTYPE=text/html:Zoom Dial-in details will be circulated prior to call&nbsp\;&nbsp\;&nbsp\;&nbsp\;
LOCATION:Zoom Dial-in details will be circulated prior to call
UID:e.9078.8550
SEQUENCE:3
DTSTAMP:20260419T155817Z
URL:http://memberzone.usasean.org/events/details/malaysia-political-update-8550
END:VEVENT

END:VCALENDAR
