BEGIN:VCALENDAR
VERSION:2.0
PRODID:-//ChamberMaster//Event Calendar 2.0//EN
METHOD:PUBLISH
X-PUBLISHED-TTL:P3D
REFRESH-INTERVAL:P3D
CALSCALE:GREGORIAN
BEGIN:VEVENT
DTSTART:20130724T140000Z
DTEND:20130724T153000Z
X-MICROSOFT-CDO-ALLDAYEVENT:FALSE
SUMMARY:Malaysia: Economic and Financial Sector Transition
DESCRIPTION:Panelists:\n\n	\n		Dr.Sundaran Annamalai\, Executive Director\, EDS16\, The World Bank - Brunei Darussalam\, Fiji\, Indonesia\, Lao People's Democratic Republic\, Malaysia\, Myanmar\, Nepal\, Singapore\, Thailand\, Tonga\, and Vietnam\n	\n		Abdul Rasheed Ghaffour\, Alternate Executive Director\, International Monetary Fund (IMF) - Brunei Darussalam\, Cambodia\, Fiji\, Indonesia\, Lao People's Democratic Republic\, Malaysia\, Myanmar\, Nepal\, Philippines\, Singapore\, Thailand\, Tonga\, Vietnam\n\nOn behalf of the Ministry of International Trade and Industry (MITI) Malaysia\, we are pleased to invite you to join us for a forum discussing Malaysia's transitions towards a high value-added and high-income economy. With a particular focus on the financial sector to be more competitive\, dynamic\, inclusive\, diversified and integrated\, Malaysia's view is that the growth of the financial system should be ultimately anchored to the growth in the real sector. In that context\, the panelists will discuss Malaysia's transition into a developed nation by 2020 by way of intensifying economic integration and internationalizing Malaysia's financial system.
X-ALT-DESC;FMTTYPE=text/html:Panelists:\n<ul>\n	<li>\n		Dr.Sundaran Annamalai\, Executive Director\, EDS16\, The World Bank - Brunei Darussalam\, Fiji\, Indonesia\, Lao People&#39\;s Democratic Republic\, Malaysia\, Myanmar\, Nepal\, Singapore\, Thailand\, Tonga\, and Vietnam</li>\n	<li>\n		Abdul Rasheed Ghaffour\, Alternate Executive Director\, International Monetary Fund (IMF) - Brunei Darussalam\, Cambodia\, Fiji\, Indonesia\, Lao People&#39\;s Democratic Republic\, Malaysia\, Myanmar\, Nepal\, Philippines\, Singapore\, Thailand\, Tonga\, Vietnam</li>\n</ul>\nOn behalf of the Ministry of International Trade and Industry (MITI) Malaysia\, we are pleased to invite you to join us for a forum discussing Malaysia&#39\;s transitions towards a high value-added and high-income economy. With a particular focus on the financial sector to be more competitive\, dynamic\, inclusive\, diversified and integrated\, Malaysia&#39\;s view is that the growth of the financial system should be ultimately anchored to the growth in the real sector. In that context\, the panelists will discuss Malaysia&#39\;s transition into a developed nation by 2020 by way of intensifying economic integration and internationalizing Malaysia&#39\;s financial system.&nbsp\;<br />\n
LOCATION:TBC Washington\, DC
UID:e.9078.869
SEQUENCE:3
DTSTAMP:20260421T205153Z
URL:http://memberzone.usasean.org/events/details/malaysia-economic-and-financial-sector-transition-07-24-2013-869
END:VEVENT

END:VCALENDAR
