BEGIN:VCALENDAR
VERSION:2.0
PRODID:-//ChamberMaster//Event Calendar 2.0//EN
METHOD:PUBLISH
X-PUBLISHED-TTL:P3D
REFRESH-INTERVAL:P3D
CALSCALE:GREGORIAN
BEGIN:VEVENT
DTSTART:20200324T010000Z
DTEND:20200324T020000Z
X-MICROSOFT-CDO-ALLDAYEVENT:FALSE
SUMMARY:Malaysia Briefing with Laurence Todd and Adeline Wong
DESCRIPTION:
X-ALT-DESC;FMTTYPE=text/html:
LOCATION:
UID:e.9078.8166
SEQUENCE:3
DTSTAMP:20260424T054033Z
URL:http://memberzone.usasean.org/events/details/malaysia-briefing-with-laurence-todd-and-adeline-wong-8166
END:VEVENT

END:VCALENDAR
