BEGIN:VCALENDAR
VERSION:2.0
PRODID:-//ChamberMaster//Event Calendar 2.0//EN
METHOD:PUBLISH
X-PUBLISHED-TTL:P3D
REFRESH-INTERVAL:P3D
CALSCALE:GREGORIAN
BEGIN:VEVENT
DTSTART;VALUE=DATE:20110809
DTEND;VALUE=DATE:20110810
TRANSP:TRANSPARENT
X-MICROSOFT-CDO-ALLDAYEVENT:TRUE
SUMMARY:Luncheon with The Honorable David Carden\, US Ambassador to ASEAN\, August 9\, Indonesia - Aug 9 2011
DESCRIPTION:
X-ALT-DESC;FMTTYPE=text/html:
LOCATION:
UID:e.9078.451
SEQUENCE:3
DTSTAMP:20260426T032017Z
URL:http://memberzone.usasean.org/events/details/luncheon-with-the-honorable-david-carden-us-ambassador-to-asean-august-9-indonesia-aug-9-2011-08-09-2011-451
END:VEVENT

END:VCALENDAR
