BEGIN:VCALENDAR
VERSION:2.0
PRODID:-//ChamberMaster//Event Calendar 2.0//EN
METHOD:PUBLISH
X-PUBLISHED-TTL:P3D
REFRESH-INTERVAL:P3D
CALSCALE:GREGORIAN
BEGIN:VEVENT
DTSTART:20130926T170000Z
DTEND:20130926T180000Z
X-MICROSOFT-CDO-ALLDAYEVENT:FALSE
SUMMARY:Luncheon with Prime Minister Najib
DESCRIPTION:Luncheon in Honor of \n\nThe Honorable Dato' Sri Mohd Najib bin Tun Abdul Razak\n\nPrime Minister of Malaysia
X-ALT-DESC;FMTTYPE=text/html:<span style="font-size: 14px\;"><span style="font-family: arial\;">Luncheon in Honor of&nbsp\;<br />\n<strong>The Honorable Dato&#39\; Sri Mohd Najib bin Tun Abdul Razak<br />\nPrime Minister of Malaysia &nbsp\;</strong></span></span>
LOCATION:New York\, New York
UID:e.9078.918
SEQUENCE:3
DTSTAMP:20260421T173750Z
URL:http://memberzone.usasean.org/events/details/luncheon-with-prime-minister-najib-09-26-2013-918
END:VEVENT

END:VCALENDAR
