BEGIN:VCALENDAR
VERSION:2.0
PRODID:-//ChamberMaster//Event Calendar 2.0//EN
METHOD:PUBLISH
X-PUBLISHED-TTL:P3D
REFRESH-INTERVAL:P3D
CALSCALE:GREGORIAN
BEGIN:VEVENT
DTSTART:20220831T050000Z
DTEND:20220831T063000Z
X-MICROSOFT-CDO-ALLDAYEVENT:FALSE
SUMMARY:Luncheon with Mr. David M. Turk\, Deputy Secretary\, U.S. Department of Energy
DESCRIPTION:US-ASEAN Business Council held a Luncheon discussion with David M. Turk \, the Deputy Secretary of Energy accompanied by Arpita Bhattacharyya\, Beth Urbanas and Celeste Marshall.
X-ALT-DESC;FMTTYPE=text/html:US-ASEAN Business Council held a Luncheon discussion with David M. Turk \, the Deputy Secretary of Energy accompanied by Arpita Bhattacharyya\, Beth Urbanas and Celeste Marshall.&nbsp\;&nbsp\;&nbsp\;&nbsp\;&nbsp\;&nbsp\;&nbsp\;&nbsp\;&nbsp\;&nbsp\;&nbsp\;
LOCATION:St Regis Bangkok Hotel
UID:e.9078.8855
SEQUENCE:3
DTSTAMP:20260422T001514Z
URL:http://memberzone.usasean.org/events/details/luncheon-with-mr-david-m-turk-deputy-secretary-u-s-department-of-energy-8855
END:VEVENT

END:VCALENDAR
