BEGIN:VCALENDAR
VERSION:2.0
PRODID:-//ChamberMaster//Event Calendar 2.0//EN
METHOD:PUBLISH
X-PUBLISHED-TTL:P3D
REFRESH-INTERVAL:P3D
CALSCALE:GREGORIAN
BEGIN:VEVENT
DTSTART:20140428T160000Z
DTEND:20140428T180000Z
X-MICROSOFT-CDO-ALLDAYEVENT:FALSE
SUMMARY:Luncheon Seminar on Indonesia's Trade Law and Industry Law
DESCRIPTION:Luncheon Seminar on Indonesia's Trade Law and Industry Law\n\nParticipants will gain understanding of the content\, proposed implementing regulations and potential impacts of Indonesia's Trade Law and Industry Law.  There will be opportunities to ask legal experts questions on implementation and compliance procedures as well as on the Trade and Industry Laws' legal statuses within the context of existing international trade agreements.
X-ALT-DESC;FMTTYPE=text/html:<span style="font-family:arial\;"><span style="font-size:14px\;"><span style="letter-spacing:.75pt\;"><span style="color:#333333\;">Luncheon Seminar on Indonesia&#39\;s Trade Law and Industry Law</span></span></span></span>\n\n<p><span style="font-family:&quot\;Arial&quot\;\,&quot\;sans-serif&quot\;">Participants will gain understanding of the&nbsp\;content\, proposed implementing regulations and potential impacts of Indonesia&#39\;s Trade Law and Industry Law. &nbsp\;There will be opportunities to ask&nbsp\;legal experts questions on implementation and compliance procedures as well as on the Trade and Industry Laws&#39\; legal statuses within the context of existing international trade agreements.</span><span style="font-family:&quot\;Georgia&quot\;\,&quot\;serif&quot\;"><o:p></o:p></span></p>\n
LOCATION:Venue: Intercontinental MidPlaza Hotel Jakarta Jasmine 5 Jl. Jenderal Sudirman Kav. 10-11\, Jakarta 10220 Phone (62-21) 251 0888
UID:e.9078.1129
SEQUENCE:3
DTSTAMP:20260420T154042Z
URL:http://memberzone.usasean.org/events/details/luncheon-seminar-on-indonesia-s-trade-law-and-industry-law-04-28-2014-1129
END:VEVENT

END:VCALENDAR
