BEGIN:VCALENDAR
VERSION:2.0
PRODID:-//ChamberMaster//Event Calendar 2.0//EN
METHOD:PUBLISH
X-PUBLISHED-TTL:P3D
REFRESH-INTERVAL:P3D
CALSCALE:GREGORIAN
BEGIN:VEVENT
DTSTART:20140925T163000Z
DTEND:20140925T180000Z
X-MICROSOFT-CDO-ALLDAYEVENT:FALSE
SUMMARY:Luncheon in Honor of Prime Minister Najib of Malaysia
DESCRIPTION:The US-ASEAN Business Council\, in partnership with the Malaysia Investment Development Authority\, is pleased to invite you to a luncheon in honor of the Prime Minister of Malaysia\, H.E. Najib Tun Razak.
X-ALT-DESC;FMTTYPE=text/html:<span style="font-family: &quot\;Arial&quot\;\,&quot\;sans-serif&quot\;\; font-size: 12pt\; mso-fareast-font-family: &quot\;Times New Roman&quot\;\; mso-ansi-language: EN-US\; mso-fareast-language: EN-US\; mso-bidi-language: AR-SA\;"><font color="#000000">The US-ASEAN Business Council\, in partnership with the Malaysia Investment Development Authority\,&nbsp\;is pleased to invite you to a luncheon in honor of the Prime Minister of Malaysia\, H.E. Najib Tun Razak.&nbsp\;</font></span>
LOCATION:Mandarin Oriental Hotel Ballroom 80 Columbus Circle New York\, New York
UID:e.9078.1234
SEQUENCE:3
DTSTAMP:20260420T052929Z
URL:http://memberzone.usasean.org/events/details/luncheon-in-honor-of-prime-minister-najib-of-malaysia-09-25-2014-1234
END:VEVENT

END:VCALENDAR
