BEGIN:VCALENDAR
VERSION:2.0
PRODID:-//ChamberMaster//Event Calendar 2.0//EN
METHOD:PUBLISH
X-PUBLISHED-TTL:P3D
REFRESH-INTERVAL:P3D
CALSCALE:GREGORIAN
BEGIN:VEVENT
DTSTART:20220810T050000Z
DTEND:20220810T063000Z
X-MICROSOFT-CDO-ALLDAYEVENT:FALSE
SUMMARY:Luncheon Farewell to CDA Heath and Welcome DCM Cardno
DESCRIPTION:US-ASEAN Business Council held a luncheon farewell to Charg  d' Affaires a.i. of the U.S. Mission in Thailand Michael Heath and welcome Deputy Chief of Mission Gwen Cardno together with Minister Counselor for Commercial Affairs John Breidenstine and Economic Counselor Eric Jordan.
X-ALT-DESC;FMTTYPE=text/html:US-ASEAN Business Council held a luncheon farewell to Charg&eacute\; d&#39\; Affaires a.i. of the U.S. Mission in Thailand Michael Heath and welcome Deputy Chief of Mission Gwen Cardno together with Minister Counselor for Commercial Affairs John Breidenstine and Economic Counselor Eric Jordan.&nbsp\;
LOCATION:
UID:e.9078.8841
SEQUENCE:3
DTSTAMP:20260421T235923Z
URL:http://memberzone.usasean.org/events/details/luncheon-farewell-to-cda-heath-and-welcome-dcm-cardno-8841
END:VEVENT

END:VCALENDAR
