BEGIN:VCALENDAR
VERSION:2.0
PRODID:-//ChamberMaster//Event Calendar 2.0//EN
METHOD:PUBLISH
X-PUBLISHED-TTL:P3D
REFRESH-INTERVAL:P3D
CALSCALE:GREGORIAN
BEGIN:VEVENT
DTSTART:20211203T040000Z
DTEND:20211203T070000Z
X-MICROSOFT-CDO-ALLDAYEVENT:FALSE
SUMMARY:Luncheon Discussion with National Security Council Officials in Thailand
DESCRIPTION:On Friday\, December 3\, the US-ASEAN Business Council organized a Luncheon Discussion in Bangkok with U.S. National Security Council officials Daleep Singh\, Deputy National Security Advisor\, and Andy Rabens\, Director for Global Engagement and Multilateral Miplomacy at the NSC and NEC\, to discuss key issues and topics including clean energy\, digital infrastructure and infrastructure financing\, and supply chain.
X-ALT-DESC;FMTTYPE=text/html:<p class="xmsonormal">On Friday\, December 3\, the US-ASEAN Business Council organized a Luncheon Discussion in Bangkok with U.S. National Security Council officials Daleep Singh\, Deputy National Security Advisor\, and Andy Rabens\, Director for Global Engagement and Multilateral Miplomacy at the NSC and NEC\, to discuss key issues and topics including clean energy\, digital infrastructure and infrastructure financing\, and supply chain. <o:p></o:p></p>\n
LOCATION:
UID:e.9078.8685
SEQUENCE:3
DTSTAMP:20260423T014416Z
URL:http://memberzone.usasean.org/events/details/luncheon-discussion-with-national-security-council-officials-in-thailand-8685
END:VEVENT

END:VCALENDAR
