BEGIN:VCALENDAR
VERSION:2.0
PRODID:-//ChamberMaster//Event Calendar 2.0//EN
METHOD:PUBLISH
X-PUBLISHED-TTL:P3D
REFRESH-INTERVAL:P3D
CALSCALE:GREGORIAN
BEGIN:VEVENT
DTSTART:20220912T163000Z
DTEND:20220912T180000Z
X-MICROSOFT-CDO-ALLDAYEVENT:FALSE
SUMMARY:Luncheon Discussion with Marisa Lago\, Under Secretary for the International Trade Administration
DESCRIPTION:US-ASEAN Business Council held a luncheon discussion with Marisa Lago\, the Under Secretary of Commerce for International Trade accompanied by CDA Gwen Cardno\, Livia Shmavonian\, Max Yoeli\, Ed Sagurton and John Breidenstine.
X-ALT-DESC;FMTTYPE=text/html:US-ASEAN Business Council held a luncheon discussion with Marisa Lago\, the Under Secretary of Commerce for International Trade accompanied by CDA Gwen Cardno\, Livia Shmavonian\, Max Yoeli\, Ed Sagurton and John Breidenstine.
LOCATION:St Regis Hotel\, Rajadamri Rd\, Bangkok.
UID:e.9078.8861
SEQUENCE:3
DTSTAMP:20260421T223023Z
URL:http://memberzone.usasean.org/events/details/luncheon-discussion-with-marisa-lago-under-secretary-for-the-international-trade-administration-8861
END:VEVENT

END:VCALENDAR
