BEGIN:VCALENDAR
VERSION:2.0
PRODID:-//ChamberMaster//Event Calendar 2.0//EN
METHOD:PUBLISH
X-PUBLISHED-TTL:P3D
REFRESH-INTERVAL:P3D
CALSCALE:GREGORIAN
BEGIN:VEVENT
DTSTART;VALUE=DATE:20120629
DTEND;VALUE=DATE:20120630
TRANSP:TRANSPARENT
X-MICROSOFT-CDO-ALLDAYEVENT:TRUE
SUMMARY:Luncheon Discussion with M. Chatib Basri - Jun 29 2012
DESCRIPTION:
X-ALT-DESC;FMTTYPE=text/html:
LOCATION:
UID:e.9078.445
SEQUENCE:3
DTSTAMP:20260425T010145Z
URL:http://memberzone.usasean.org/events/details/luncheon-discussion-with-m-chatib-basri-jun-29-2012-06-29-2012-445
END:VEVENT

END:VCALENDAR
