BEGIN:VCALENDAR
VERSION:2.0
PRODID:-//ChamberMaster//Event Calendar 2.0//EN
METHOD:PUBLISH
X-PUBLISHED-TTL:P3D
REFRESH-INTERVAL:P3D
CALSCALE:GREGORIAN
BEGIN:VEVENT
DTSTART:20131003T160000Z
DTEND:20131003T173000Z
X-MICROSOFT-CDO-ALLDAYEVENT:FALSE
SUMMARY:Luncheon discussion with in-coming Thai Ambassador Vijavat Isarabhakdi
DESCRIPTION:The council is delighted to invite you to a small informal lunch with the newly appointed Thai Ambassador to the US\, HE Vijavat Isarabhakdi. Ambassador Vijavat has been a highly regarded Deputy Permanent Secretary\, and will serve in DC for many years in contrast to his recent predecessors. \n\n	This will be an excellent opportunity to brief the Ambassador on your issues and to hear the priorities of his Embassy.\n\n	Luncheon hosted by Dow Chemical\, attendees: AIG \, Caterpillar\, Citi\, Ford\, GE\, GM\, GSK\, Microsoft.
X-ALT-DESC;FMTTYPE=text/html:<div>\n	The council is delighted to invite you to a small informal lunch with the newly appointed Thai Ambassador to the US\, HE Vijavat Isarabhakdi. Ambassador Vijavat has been a highly regarded Deputy Permanent Secretary\, and will serve in DC for many years in contrast to his recent predecessors.&nbsp\;</div>\n<div>\n	This will be an excellent opportunity to brief the Ambassador on your issues and to hear the priorities of his Embassy.<br />\n	Luncheon hosted by Dow Chemical\, attendees: AIG \, Caterpillar\,&nbsp\;Citi\, Ford\, GE\, GM\, GSK\, Microsoft.&nbsp\;</div>\n<div>\n	&nbsp\;</div>\n
LOCATION:Private Room\, Viu Restaurant\, St Regis Hotel\, Rajadamri Road
UID:e.9078.936
SEQUENCE:3
DTSTAMP:20260421T123955Z
URL:http://memberzone.usasean.org/events/details/luncheon-discussion-with-in-coming-thai-ambassador-vijavat-isarabhakdi-10-03-2013-936
END:VEVENT

END:VCALENDAR
