BEGIN:VCALENDAR
VERSION:2.0
PRODID:-//ChamberMaster//Event Calendar 2.0//EN
METHOD:PUBLISH
X-PUBLISHED-TTL:P3D
REFRESH-INTERVAL:P3D
CALSCALE:GREGORIAN
BEGIN:VEVENT
DTSTART:20220802T053000Z
DTEND:20220802T070000Z
X-MICROSOFT-CDO-ALLDAYEVENT:FALSE
SUMMARY:Luncheon Discussion with DG Chettaphan Maksamphan
DESCRIPTION:Luncheon Discussion with DG Chettaphan Maksamphan\, the newly appointed Director General of the Department of American and South Pacific Affairs\, Ministry of Foreign Affairs\, to discuss about Thai-US Economic Relation.
X-ALT-DESC;FMTTYPE=text/html:<span style="font-size:14px\;"><span style="font-family:arial\;">Luncheon Discussion with DG Chettaphan Maksamphan\, the newly appointed Director General of the Department of American and South Pacific Affairs\, Ministry of Foreign Affairs\, to discuss about Thai-US Economic Relation.&nbsp\;</span></span>
LOCATION:Anantara Siam Bangkok Hotel
UID:e.9078.8833
SEQUENCE:3
DTSTAMP:20260421T235409Z
URL:http://memberzone.usasean.org/events/details/luncheon-discussion-with-dg-chettaphan-maksamphan-8833
END:VEVENT

END:VCALENDAR
