BEGIN:VCALENDAR
VERSION:2.0
PRODID:-//ChamberMaster//Event Calendar 2.0//EN
METHOD:PUBLISH
X-PUBLISHED-TTL:P3D
REFRESH-INTERVAL:P3D
CALSCALE:GREGORIAN
BEGIN:VEVENT
DTSTART;VALUE=DATE:20120710
DTEND;VALUE=DATE:20120711
TRANSP:TRANSPARENT
X-MICROSOFT-CDO-ALLDAYEVENT:TRUE
SUMMARY:Luncheon Discussion with Commission VII - Jul 10 2012
DESCRIPTION:
X-ALT-DESC;FMTTYPE=text/html:
LOCATION:
UID:e.9078.443
SEQUENCE:3
DTSTAMP:20260424T233459Z
URL:http://memberzone.usasean.org/events/details/luncheon-discussion-with-commission-vii-jul-10-2012-07-10-2012-443
END:VEVENT

END:VCALENDAR
