BEGIN:VCALENDAR
VERSION:2.0
PRODID:-//ChamberMaster//Event Calendar 2.0//EN
METHOD:PUBLISH
X-PUBLISHED-TTL:P3D
REFRESH-INTERVAL:P3D
CALSCALE:GREGORIAN
BEGIN:VEVENT
DTSTART:20150402T160000Z
DTEND:20150402T173000Z
X-MICROSOFT-CDO-ALLDAYEVENT:FALSE
SUMMARY:Luncheon Discussion with Christine Brown\, Director for Southeast Asia\, USTR (Bangkok)
DESCRIPTION:Hosted by Dow Chemical\n\nAttendees: AIG\, Baker & McKenzie\, Chevron\, Dow\, DuPont\, FedEx\, Ford\, GE\, GM\, GSK\, Guardian\, Pfizer\, Monsanto
X-ALT-DESC;FMTTYPE=text/html:<br />\nHosted by Dow Chemical<br />\nAttendees: AIG\, Baker &amp\; McKenzie\, Chevron\, Dow\, DuPont\, FedEx\, Ford\, GE\, GM\, GSK\, Guardian\, Pfizer\, Monsanto&nbsp\;<br />\n&nbsp\;
LOCATION:Bangkok Thailand
UID:e.9078.1523
SEQUENCE:3
DTSTAMP:20260419T174451Z
URL:http://memberzone.usasean.org/events/details/luncheon-discussion-with-christine-brown-director-for-southeast-asia-ustr-bangkok-04-02-2015-1523
END:VEVENT

END:VCALENDAR
