BEGIN:VCALENDAR
VERSION:2.0
PRODID:-//ChamberMaster//Event Calendar 2.0//EN
METHOD:PUBLISH
X-PUBLISHED-TTL:P3D
REFRESH-INTERVAL:P3D
CALSCALE:GREGORIAN
BEGIN:VEVENT
DTSTART:20211002T010000Z
DTEND:20211002T020000Z
X-MICROSOFT-CDO-ALLDAYEVENT:FALSE
SUMMARY:Joint Virtual Briefing on Vietnam COVID-19 Response with American Chamber of Commerce in Vietnam
DESCRIPTION:Speakers:\n\n1. Vu Tu Thanh\, Deputy Regional Managing Director and Vietnam Chief Representative\, US-ASEAN Business Council (USABC)\n\n2. Mary Tarnowka\, Executive Director\, the American Chamber of Commerce in Vietnam (AmCham)\n\n\n\nPlease see below the dial-in details. If you have any questions\, please contact Minh Vu at mvu@usasean.org.
X-ALT-DESC;FMTTYPE=text/html:<span style="font-size: 10pt\; line-height: 107%\; font-family: Arial\, sans-serif\; background-image: initial\; background-position: initial\; background-size: initial\; background-repeat: initial\; background-attachment: initial\; background-origin: initial\; background-clip: initial\;">Speakers:</span><br />\n<span style="font-size: 10pt\; line-height: 107%\; font-family: Arial\, sans-serif\;"><span style="background-image: initial\; background-position: initial\; background-size: initial\; background-repeat: initial\; background-attachment: initial\; background-origin: initial\; background-clip: initial\;">1. Vu Tu Thanh\, Deputy Regional Managing Director and Vietnam Chief Representative\, US-ASEAN Business Council (USABC)</span><br />\n<span style="background-image: initial\; background-position: initial\; background-size: initial\; background-repeat: initial\; background-attachment: initial\; background-origin: initial\; background-clip: initial\;">2. Mary Tarnowka\, Executive Director\, the American Chamber of Commerce in Vietnam (AmCham)</span><br />\n<br />\n<span style="background-image: initial\; background-position: initial\; background-size: initial\; background-repeat: initial\; background-attachment: initial\; background-origin: initial\; background-clip: initial\;">Please see below the dial-in details. If you have any questions\, please contact Minh Vu at mvu@usasean.org.</span></span>
LOCATION:
UID:e.9078.8560
SEQUENCE:3
DTSTAMP:20260419T124415Z
URL:http://memberzone.usasean.org/events/details/joint-virtual-briefing-on-vietnam-covid-19-response-with-american-chamber-of-commerce-in-vietnam-8560
END:VEVENT

END:VCALENDAR
