BEGIN:VCALENDAR
VERSION:2.0
PRODID:-//ChamberMaster//Event Calendar 2.0//EN
METHOD:PUBLISH
X-PUBLISHED-TTL:P3D
REFRESH-INTERVAL:P3D
CALSCALE:GREGORIAN
BEGIN:VEVENT
DTSTART:20210811T010000Z
DTEND:20210811T020000Z
X-MICROSOFT-CDO-ALLDAYEVENT:FALSE
SUMMARY:Joint Virtual Briefing on Vietnam COVID-19 Response
DESCRIPTION:Joint Virtual Briefing on Vietnam COVID-19 Response with American Chamber of Commerce in Vietnam
X-ALT-DESC;FMTTYPE=text/html:Joint Virtual Briefing on Vietnam COVID-19 Response with American Chamber of Commerce in Vietnam<br />\n&nbsp\;
LOCATION:Virtual
UID:e.9078.8543
SEQUENCE:3
DTSTAMP:20260419T155736Z
URL:http://memberzone.usasean.org/events/details/joint-virtual-briefing-on-vietnam-covid-19-response-8543
END:VEVENT

END:VCALENDAR
