BEGIN:VCALENDAR
VERSION:2.0
PRODID:-//ChamberMaster//Event Calendar 2.0//EN
METHOD:PUBLISH
X-PUBLISHED-TTL:P3D
REFRESH-INTERVAL:P3D
CALSCALE:GREGORIAN
BEGIN:VEVENT
DTSTART:20140129T080000Z
DTEND:20140129T090000Z
X-MICROSOFT-CDO-ALLDAYEVENT:FALSE
SUMMARY:Jakarta medical device meeting
DESCRIPTION:Meeting with\n\n\n\nDrg. Arianti Anaya\n\nDirector of Medical Device Production and Distribution Service\n\nMinistry of Health of Indonesia
X-ALT-DESC;FMTTYPE=text/html:<span style="font-size:14px\;"><span style="letter-spacing: 0.75pt\;"><span style="color: rgb(51\, 51\, 51)\;"><span style="font-family: georgia\,serif\;">Meeting with<br />\n<br />\nDrg. Arianti Anaya<br />\nDirector of Medical Device Production and Distribution Service<br />\nMinistry of Health of Indonesia</span></span></span></span>
LOCATION:Ministry of Health Jakarta\, Indonesia
UID:e.9078.1022
SEQUENCE:3
DTSTAMP:20260421T060749Z
URL:http://memberzone.usasean.org/events/details/jakarta-medical-device-meeting-01-29-2014-1022
END:VEVENT

END:VCALENDAR
