BEGIN:VCALENDAR
VERSION:2.0
PRODID:-//ChamberMaster//Event Calendar 2.0//EN
METHOD:PUBLISH
X-PUBLISHED-TTL:P3D
REFRESH-INTERVAL:P3D
CALSCALE:GREGORIAN
BEGIN:VEVENT
DTSTART;VALUE=DATE:20120711
DTEND;VALUE=DATE:20120712
TRANSP:TRANSPARENT
X-MICROSOFT-CDO-ALLDAYEVENT:TRUE
SUMMARY:Invitation: U.S.- Vietnam Partnerships in Health: Improving clinical trial practices and Future Health Sectors Collaborations - Jul 11 2012
DESCRIPTION:
X-ALT-DESC;FMTTYPE=text/html:
LOCATION:
UID:e.9078.432
SEQUENCE:3
DTSTAMP:20260424T233537Z
URL:http://memberzone.usasean.org/events/details/invitation-u-s-vietnam-partnerships-in-health-improving-clinical-trial-practices-and-future-health-sectors-collaborations-jul-11-2012-07-11-2012-432
END:VEVENT

END:VCALENDAR
