BEGIN:VCALENDAR
VERSION:2.0
PRODID:-//ChamberMaster//Event Calendar 2.0//EN
METHOD:PUBLISH
X-PUBLISHED-TTL:P3D
REFRESH-INTERVAL:P3D
CALSCALE:GREGORIAN
BEGIN:VEVENT
DTSTART:20230131T040000Z
DTEND:20230131T050000Z
X-MICROSOFT-CDO-ALLDAYEVENT:FALSE
SUMMARY:[Invitation]: Roundtable with USPTO\, Matthew Kohner\, US IP Attache for Southeast Asia
DESCRIPTION:
X-ALT-DESC;FMTTYPE=text/html:
LOCATION:WeWork\, Revenue Tower (Meeting Room - to be provided upon registration) District 8\, SCBD Jl. Jend. Sudirman No. 52-53 Jakarta Selatan\, 12190
UID:e.9078.8945
SEQUENCE:3
DTSTAMP:20260421T173700Z
URL:http://memberzone.usasean.org/events/details/invitation-roundtable-with-uspto-matthew-kohner-us-ip-attache-for-southeast-asia-8945
END:VEVENT

END:VCALENDAR
