BEGIN:VCALENDAR
VERSION:2.0
PRODID:-//ChamberMaster//Event Calendar 2.0//EN
METHOD:PUBLISH
X-PUBLISHED-TTL:P3D
REFRESH-INTERVAL:P3D
CALSCALE:GREGORIAN
BEGIN:VEVENT
DTSTART;VALUE=DATE:20120105
DTEND;VALUE=DATE:20120106
TRANSP:TRANSPARENT
X-MICROSOFT-CDO-ALLDAYEVENT:TRUE
SUMMARY:Invitation: Meeting with Thailand Commercial and Agriculture Counselors\, USABC Office | Washington\, Jan. 5 - Jan 5 2012
DESCRIPTION:
X-ALT-DESC;FMTTYPE=text/html:
LOCATION:
UID:e.9078.426
SEQUENCE:3
DTSTAMP:20260425T101921Z
URL:http://memberzone.usasean.org/events/details/invitation-meeting-with-thailand-commercial-and-agriculture-counselors-usabc-office-washington-jan-5-jan-5-2012-01-05-2012-426
END:VEVENT

END:VCALENDAR
