BEGIN:VCALENDAR
VERSION:2.0
PRODID:-//ChamberMaster//Event Calendar 2.0//EN
METHOD:PUBLISH
X-PUBLISHED-TTL:P3D
REFRESH-INTERVAL:P3D
CALSCALE:GREGORIAN
BEGIN:VEVENT
DTSTART:20130312T113000Z
DTEND:20130312T130000Z
X-MICROSOFT-CDO-ALLDAYEVENT:FALSE
SUMMARY:Invitation: Breakfast Meeting with Deputy Assistant Secretary Craig Allen
DESCRIPTION:Assistant Secretary Craig Allen of the U.S. Department of Commerce has generously offered to meet with members over breakfast during his trip Manila to lead the U.S. delegation to the APEC SME Trade Finance Conference.  We hope you will join this opportunity to exchange ideas with Assistant Secretary Allen as he holds a key role in providing advice on the analysis\, formulation and implementation of U.S. International economic policies with respect to the Philippines and other members of ASEAN\, East Asia\, and APEC.
X-ALT-DESC;FMTTYPE=text/html:<span style="color:#1f497d\;"><span style="font-family:arial\,sans-serif\;"><span style="font-size:10.5pt\;">Assistant Secretary Craig Allen of the U.S. Department of Commerce has generously offered to meet with members over breakfast during his trip Manila to lead the U.S. delegation to the APEC SME Trade Finance Conference.&nbsp\; We hope you will join this opportunity to exchange ideas with Assistant Secretary Allen as he holds a key role in providing advice on the analysis\, formulation and implementation of U.S. International economic policies with respect to the Philippines and other members of ASEAN\, East Asia\, and APEC. &nbsp\;</span></span></span>
LOCATION:AmCham Boardroom 2/F\, Corinthian Plaza\, Paseo de Roxas Makati City Philippines
UID:e.9078.727
SEQUENCE:3
DTSTAMP:20260422T081335Z
URL:http://memberzone.usasean.org/events/details/invitation-breakfast-meeting-with-deputy-assistant-secretary-craig-allen-03-12-2013-727
END:VEVENT

END:VCALENDAR
