BEGIN:VCALENDAR
VERSION:2.0
PRODID:-//ChamberMaster//Event Calendar 2.0//EN
METHOD:PUBLISH
X-PUBLISHED-TTL:P3D
REFRESH-INTERVAL:P3D
CALSCALE:GREGORIAN
BEGIN:VEVENT
DTSTART;VALUE=DATE:20120626
DTEND;VALUE=DATE:20120627
TRANSP:TRANSPARENT
X-MICROSOFT-CDO-ALLDAYEVENT:TRUE
SUMMARY:Invitation: 2012 Vietnam Business Mission Conference Call - Jun 26 2012
DESCRIPTION:
X-ALT-DESC;FMTTYPE=text/html:
LOCATION:
UID:e.9078.418
SEQUENCE:3
DTSTAMP:20260425T022021Z
URL:http://memberzone.usasean.org/events/details/invitation-2012-vietnam-business-mission-conference-call-jun-26-2012-06-26-2012-418
END:VEVENT

END:VCALENDAR
