BEGIN:VCALENDAR
VERSION:2.0
PRODID:-//ChamberMaster//Event Calendar 2.0//EN
METHOD:PUBLISH
X-PUBLISHED-TTL:P3D
REFRESH-INTERVAL:P3D
CALSCALE:GREGORIAN
BEGIN:VEVENT
DTSTART:20200213T143000Z
DTEND:20200213T153000Z
X-MICROSOFT-CDO-ALLDAYEVENT:FALSE
SUMMARY:Investment Briefing on Indonesia's National Strategic Projects
DESCRIPTION:Investment Briefing on\n\nIndonesia's National Strategic Projects\n\nwith\n\nH.E. Luhut Pandjaitan\n\nCoordinating Minister for Maritime and Investment Affairs\n\nand\n\nAlberto Ramos\n\nU.S. International Development Finance Corporation
X-ALT-DESC;FMTTYPE=text/html:<b style="color: rgb(0\, 0\, 0)\; font-size: medium\;"><span style="font-size: 16pt\; font-family: Arial\, sans-serif\; color: rgb(51\, 51\, 51)\; letter-spacing: 0.75pt\;">Investment Briefing&nbsp\;on<br />\nIndonesia&#39\;s National Strategic Projects<br />\nwith<br />\nH.E. Luhut Pandjaitan<br />\nCoordinating Minister for Maritime and Investment Affairs<br />\nand<br />\nAlberto Ramos<br />\nU.S. International Development Finance Corporation</span></b>
LOCATION:Embassy of Indonesia 2020 Massachusetts Ave NW Washington\, DC
UID:e.9078.8143
SEQUENCE:3
DTSTAMP:20260421T134138Z
URL:http://memberzone.usasean.org/events/details/investment-briefing-on-indonesia-s-national-strategic-projects-8143
END:VEVENT

END:VCALENDAR
