BEGIN:VCALENDAR
VERSION:2.0
PRODID:-//ChamberMaster//Event Calendar 2.0//EN
METHOD:PUBLISH
X-PUBLISHED-TTL:P3D
REFRESH-INTERVAL:P3D
CALSCALE:GREGORIAN
BEGIN:VEVENT
DTSTART;VALUE=DATE:20140609
DTEND;VALUE=DATE:20140611
TRANSP:TRANSPARENT
X-MICROSOFT-CDO-ALLDAYEVENT:TRUE
SUMMARY:Invest Malaysia 2014
DESCRIPTION:About Invest Malaysia (IM)\n\nNow in its 10th year\, Invest Malaysia organised annually by Bursa Malaysia\, the Malaysian Stock Exchange\, has grown from strength to strength. IM 2014 will be co-organised and co-sponsored by CIMB Investment Bank\, part of the largest banking group.\n\nThe IM 2014 will showcase over 30 Malaysian corporates over a period of 2 days. IM 2014 invites you to explore\, discover\, update\, expand and broaden investment opportunities in Malaysia\, the heart of ASEAN.\n\nInvest Malaysia : Key Objectives for Investors\n\n\n	Be the first to hear groundbreaking key developments in the Malaysian capital market that will be announced\n	Unrivalled access to regulators and policy makers\n	Unparalled access to CEOs\, CIOs and Senior Management of leading Malaysian PLCs as well as corporate from other ASEAN countries\n	Network with policy makers and industry leaders to gain insights for informed investment decisions\n\n\nInvest Malaysia 2014 Event Highlights\n\n\n	With Keynote Address by the Prime Minister of Malaysia\n	Profile leading companies across key sectors in corporate presentations across three conference tracks\n	Profile leading companies across key sectors in one-on-one and small group meetings
X-ALT-DESC;FMTTYPE=text/html:<h2>About Invest Malaysia (IM)</h2>\n\n<p>Now in its 10th year\, Invest Malaysia organised annually by Bursa Malaysia\, the Malaysian Stock Exchange\, has grown from strength to strength. IM 2014 will be co-organised and co-sponsored by CIMB Investment Bank\, part of the largest banking group.</p>\n\n<p class="wspace_bottom">The IM 2014 will showcase over 30 Malaysian corporates over a period of 2 days. IM 2014 invites you to explore\, discover\, update\, expand and broaden investment opportunities in Malaysia\, the heart of ASEAN.</p>\n\n<h2>Invest Malaysia : Key Objectives for Investors</h2>\n\n<ul class="list_style_none">\n	<li>Be the first to hear groundbreaking key developments in the Malaysian capital market that will be announced</li>\n	<li>Unrivalled access to regulators and policy makers</li>\n	<li>Unparalled access to CEOs\, CIOs and Senior Management of leading Malaysian PLCs as well as corporate from other ASEAN countries</li>\n	<li class="wspace_bottom">Network with policy makers and industry leaders to gain insights for informed investment decisions</li>\n</ul>\n\n<h2>Invest Malaysia 2014 Event Highlights</h2>\n\n<ul class="list_style_none">\n	<li>With Keynote Address by the Prime Minister of Malaysia</li>\n	<li>Profile leading companies across key sectors in corporate presentations across three conference tracks</li>\n	<li>Profile leading companies across key sectors in one-on-one and small group meetings&nbsp\;</li>\n</ul>\n
LOCATION:Mandarin Oriental Kuala Lumpur\, Malaysia
UID:e.9078.1149
SEQUENCE:3
DTSTAMP:20260420T103312Z
URL:http://memberzone.usasean.org/events/details/invest-malaysia-2014-06-09-2014-1149
END:VEVENT

END:VCALENDAR
