BEGIN:VCALENDAR
VERSION:2.0
PRODID:-//ChamberMaster//Event Calendar 2.0//EN
METHOD:PUBLISH
X-PUBLISHED-TTL:P3D
REFRESH-INTERVAL:P3D
CALSCALE:GREGORIAN
BEGIN:VEVENT
DTSTART:20200722T123000Z
DTEND:20200722T133000Z
X-MICROSOFT-CDO-ALLDAYEVENT:FALSE
SUMMARY:Introductory Call with DICT Undersecretary Ramon Jacinto
DESCRIPTION:
X-ALT-DESC;FMTTYPE=text/html:
LOCATION:Hosted via Zoom
UID:e.9078.8262
SEQUENCE:3
DTSTAMP:20260420T123840Z
URL:http://memberzone.usasean.org/events/details/introductory-call-with-dict-undersecretary-ramon-jacinto-8262
END:VEVENT

END:VCALENDAR
