BEGIN:VCALENDAR
VERSION:2.0
PRODID:-//ChamberMaster//Event Calendar 2.0//EN
METHOD:PUBLISH
X-PUBLISHED-TTL:P3D
REFRESH-INTERVAL:P3D
CALSCALE:GREGORIAN
BEGIN:VEVENT
DTSTART;VALUE=DATE:20131022
DTEND;VALUE=DATE:20131026
TRANSP:TRANSPARENT
X-MICROSOFT-CDO-ALLDAYEVENT:TRUE
SUMMARY:Internet Governance Forum 2013
DESCRIPTION:The Internet Governance Forum (IGF) is a multi-stakeholder forum for policy dialogue on issues of Internet governance. It brings together all stakeholders in the Internet governance debate\, whether they represent governments\, the private sector or civil society\, including the technical and academic community\, on an equal basis and through an open and inclusive process. The establishment of the IGF was formally announced by the United Nations Secretary-General in July 2006. It was first convened in October November 2006 and has held an annual meeting since then.
X-ALT-DESC;FMTTYPE=text/html:The Internet Governance Forum (IGF) is a multi-stakeholder forum for policy dialogue on issues of Internet governance. It brings together all stakeholders in the Internet governance debate\, whether they represent governments\, the private sector or civil society\, including the technical and academic community\, on an equal basis and through an open and inclusive process. The establishment of the IGF was formally announced by the United Nations Secretary-General in July 2006. It was first convened in October&ndash\;November 2006 and has held an annual meeting since then.
LOCATION:Nusa Dua Convention Center Bali\, Indonesia
UID:e.9078.902
SEQUENCE:3
DTSTAMP:20260421T123412Z
URL:http://memberzone.usasean.org/events/details/internet-governance-forum-2013-10-22-2013-902
END:VEVENT

END:VCALENDAR
