BEGIN:VCALENDAR
VERSION:2.0
PRODID:-//ChamberMaster//Event Calendar 2.0//EN
METHOD:PUBLISH
X-PUBLISHED-TTL:P3D
REFRESH-INTERVAL:P3D
CALSCALE:GREGORIAN
BEGIN:VEVENT
DTSTART:20210713T123000Z
DTEND:20210713T140000Z
X-MICROSOFT-CDO-ALLDAYEVENT:FALSE
SUMMARY:Indonesia-US Trade and Investment Forum
DESCRIPTION:Indonesia-U.S. Trade and Investment Dialogue\n\n			\n\n			with\n\n			\n\n			H.E. Muhammad Lutfi\n\n			Minister of Trade of Indonesia\n\n			\n\n			and\n\n			\n\n			H.E. Bahlil Lahadalia\n\n			Minister of Investment/Chairman of Indonesia Investment Coordinating Board (BKPM)\n		\n		\n			Venue: Indonesian Embassy\n\n			 \n		\n		\n			\n\n			Please register to commercial-attache@embassyofindonesia.org. \n\n			\n\n			First-come-first serve basis\, for up to 20 participants
X-ALT-DESC;FMTTYPE=text/html:<table align="center" border="0" cellpadding="0" cellspacing="0" style="width:650px\;" width="650">\n	<tbody>\n		<tr>\n			<td style="padding:15.0pt 0in 15.0pt 0in\;"><br />\n			<strong><span style="letter-spacing:.75pt\;"><span style="color:#333333\;"><span style="font-family:arial\,sans-serif\;"><span style="font-size:16.5pt\;">Indonesia-U.S. Trade and Investment Dialogue<br />\n			<br />\n			with<br />\n			<br />\n			H.E. Muhammad Lutfi<br />\n			Minister of Trade of Indonesia<br />\n			<br />\n			and<br />\n			<br />\n			H.E. Bahlil Lahadalia</span></span></span></span></strong><br />\n			<strong><span style="letter-spacing:.75pt\;"><span style="color:#333333\;"><span style="font-size:16.5pt\;">Minister of Investment/Chairman of Indonesia Investment Coordinating Board (BKPM)</span></span></span></strong></td>\n		</tr>\n		<tr>\n			<td style="padding:0in 0in 0in 0in\;"><span style="color:dimgray\;"><span style="font-family:arial\,sans-serif\;"><span style="font-size:10.5pt\;">Venue: Indonesian Embassy</span></span></span><br />\n			&nbsp\;</td>\n		</tr>\n		<tr>\n			<td style="padding:7.5pt 0in 7.5pt 0in\;"><br />\n			<span style="color:dimgray\;"><span style="font-family:arial\,sans-serif\;"><span style="font-size:10.5pt\;">Please register to&nbsp\;<a href="mailto:commercial-attache@embassyofindonesia.org">commercial-attache@embassyofindonesia.org</a>.&nbsp\;</span></span></span><br />\n			<br />\n			<span style="color:dimgray\;"><span style="font-family:arial\,sans-serif\;"><span style="font-size:10.5pt\;">First-come-first serve basis\, for up to 20 participants</span></span></span><br />\n			<br />\n			&nbsp\;</td>\n		</tr>\n	</tbody>\n</table>\n\n<div style="clear:both\;">&nbsp\;</div>\n
LOCATION:
UID:e.9078.8511
SEQUENCE:3
DTSTAMP:20260419T174455Z
URL:http://memberzone.usasean.org/events/details/indonesia-us-trade-and-investment-forum-8511
END:VEVENT

END:VCALENDAR
