BEGIN:VCALENDAR
VERSION:2.0
PRODID:-//ChamberMaster//Event Calendar 2.0//EN
METHOD:PUBLISH
X-PUBLISHED-TTL:P3D
REFRESH-INTERVAL:P3D
CALSCALE:GREGORIAN
BEGIN:VEVENT
DTSTART;VALUE=DATE:20211116
DTEND;VALUE=DATE:20211117
TRANSP:TRANSPARENT
X-MICROSOFT-CDO-ALLDAYEVENT:TRUE
SUMMARY:Indonesia's Local Content Working Group - LCR Study
DESCRIPTION:Notes: Please ignore the displayed date in the registration page.\n\n\n\nThe Council plans to conduct a study on local content requirement (TKDN) in collaboration with a prominent local think tank and researcher\, which aims to provide a holistic approach (cross-industry) and insight for the Government of Indonesia in conducting policy analysis and assessing wider impact of local content requirement.\n\n\n\nThe study also aims to provide policy recommendations\, including on the application of extension criteria - such as research & development\, services support\, capacity building\, and innovation center - as part of the LCR and its calculation. We anticipate this study to cover cross-sectorial industries including ICT\, energy\, healthcare\, manufacturing\, and services among others.
X-ALT-DESC;FMTTYPE=text/html:<br />\n<span style="caret-color: rgb(0\, 0\, 0)\; color: rgb(0\, 0\, 0)\; font-family: Georgia\, serif\; font-size: 14.6667px\; text-align: justify\; text-size-adjust: auto\;">Notes: Please ignore the displayed date in the registration page.<br />\n<br />\nThe Council plans to conduct a study on local content requirement (TKDN) in collaboration with a prominent local think tank and researcher\, which aims&nbsp\;to provide a holistic approach (cross-industry) and insight for the Government of Indonesia in conducting policy analysis and assessing wider impact of local content requirement.</span><br style="caret-color: rgb(0\, 0\, 0)\; color: rgb(0\, 0\, 0)\; font-family: Georgia\, serif\; font-size: 14.6667px\; text-align: justify\; text-size-adjust: auto\;" />\n<br style="caret-color: rgb(0\, 0\, 0)\; color: rgb(0\, 0\, 0)\; font-family: Georgia\, serif\; font-size: 14.6667px\; text-align: justify\; text-size-adjust: auto\;" />\n<span style="caret-color: rgb(0\, 0\, 0)\; color: rgb(0\, 0\, 0)\; font-family: Georgia\, serif\; font-size: 14.6667px\; text-align: justify\; text-size-adjust: auto\;">The study also aims to provide policy recommendations\, including on the application of extension criteria - such as research &amp\; development\, services support\, capacity building\, and innovation center - as part of the LCR and its calculation.&nbsp\;We anticipate this study to cover cross-sectorial industries&nbsp\;including ICT\, energy\, healthcare\, manufacturing\, and services among others.</span>
LOCATION:
UID:e.9078.8563
SEQUENCE:3
DTSTAMP:20260424T214851Z
URL:http://memberzone.usasean.org/events/details/indonesia-s-local-content-working-group-lcr-study-8563
END:VEVENT

END:VCALENDAR
