BEGIN:VCALENDAR
VERSION:2.0
PRODID:-//ChamberMaster//Event Calendar 2.0//EN
METHOD:PUBLISH
X-PUBLISHED-TTL:P3D
REFRESH-INTERVAL:P3D
CALSCALE:GREGORIAN
BEGIN:VEVENT
DTSTART;VALUE=DATE:20120125
DTEND;VALUE=DATE:20120126
TRANSP:TRANSPARENT
X-MICROSOFT-CDO-ALLDAYEVENT:TRUE
SUMMARY:Indonesia MOH Meeting with Dr Lily Sulistyowati\, Head of Health Promotion Centre - Jan 25 2012
DESCRIPTION:
X-ALT-DESC;FMTTYPE=text/html:
LOCATION:
UID:e.9078.407
SEQUENCE:3
DTSTAMP:20260425T102133Z
URL:http://memberzone.usasean.org/events/details/indonesia-moh-meeting-with-dr-lily-sulistyowati-head-of-health-promotion-centre-jan-25-2012-01-25-2012-407
END:VEVENT

END:VCALENDAR
