BEGIN:VCALENDAR
VERSION:2.0
PRODID:-//ChamberMaster//Event Calendar 2.0//EN
METHOD:PUBLISH
X-PUBLISHED-TTL:P3D
REFRESH-INTERVAL:P3D
CALSCALE:GREGORIAN
BEGIN:VEVENT
DTSTART:20141119T130000Z
DTEND:20141119T140000Z
X-MICROSOFT-CDO-ALLDAYEVENT:FALSE
SUMMARY:Indonesia Mission- Conference Call with Ambassador Blake
DESCRIPTION:Please join us for a conference call with United States Ambassador to Indonesia\, the Honorable Robert Blake. Ambassador Blake will provide a brief update on the new Indonesian Government and what to expect in the coming months. \n\n\n\nThe remainder of the call will be used to discuss planning for the Indonesia Mission (Dec 9-11).
X-ALT-DESC;FMTTYPE=text/html:Please join us for a conference call with United States Ambassador to Indonesia\, the Honorable Robert Blake. Ambassador Blake will provide a brief update on the new Indonesian Government and what to expect in the coming months.&nbsp\;<br />\n<br />\nThe remainder of the call will be used to discuss planning for the Indonesia Mission (Dec 9-11).&nbsp\;
LOCATION:
UID:e.9078.1305
SEQUENCE:3
DTSTAMP:20260420T020503Z
URL:http://memberzone.usasean.org/events/details/indonesia-mission-conference-call-with-ambassador-blake-11-19-2014-1305
END:VEVENT

END:VCALENDAR
