BEGIN:VCALENDAR
VERSION:2.0
PRODID:-//ChamberMaster//Event Calendar 2.0//EN
METHOD:PUBLISH
X-PUBLISHED-TTL:P3D
REFRESH-INTERVAL:P3D
CALSCALE:GREGORIAN
BEGIN:VEVENT
DTSTART:20141203T130000Z
DTEND:20141203T140000Z
X-MICROSOFT-CDO-ALLDAYEVENT:FALSE
SUMMARY:Indonesia Mission Conference Call
DESCRIPTION:Please join us for the third and final Mission planning conference call. During the call we will review planning\, logistics and other important updates about the Mission.  We strongly encourage all delegates to participate in this call.  \n\n\n\nFor questions please contact Alex Stuart at astuart@usasean.org
X-ALT-DESC;FMTTYPE=text/html:Please join us for the third and final Mission planning conference call. During the call we will review planning\, logistics and other important updates about the Mission. &nbsp\;We strongly encourage all delegates to participate in this call. &nbsp\;<br />\n<br />\nFor questions please contact Alex Stuart at astuart@usasean.org&nbsp\;
LOCATION:Conference dial in details provided upon registration.
UID:e.9078.1319
SEQUENCE:3
DTSTAMP:20260419T235353Z
URL:http://memberzone.usasean.org/events/details/indonesia-mission-conference-call-12-03-2014-1319
END:VEVENT

END:VCALENDAR
