BEGIN:VCALENDAR
VERSION:2.0
PRODID:-//ChamberMaster//Event Calendar 2.0//EN
METHOD:PUBLISH
X-PUBLISHED-TTL:P3D
REFRESH-INTERVAL:P3D
CALSCALE:GREGORIAN
BEGIN:VEVENT
DTSTART:20191003T013000Z
DTEND:20191003T050000Z
X-MICROSOFT-CDO-ALLDAYEVENT:FALSE
SUMMARY:Indonesia Innovation for SME Workshop
DESCRIPTION:The Council is pleased to invite you to participate in our Indonesia Innovation for Small Medium Enterprise (SME) Workshop entitled "Innovation Without Limits: Advancing Indonesian Entrepreneurs Competitiveness"\, which will be held in Serpong\, South Tangerang\, Indonesia on October 3\, 2019. \n\n\n\nThe event will be conducted in close collaboration with The Research Center for Science and Technology (Pusat Penelitian Ilmu Pengetahuan dan Teknologi)\, a unit under the Ministry of Research\, Technology and Higher Education\, for its PUSPIPTEK Innovation Festival Indonesia 2019 entitled "Innovation without Limits"   which aims at improving innovation and make it inclusive in society to strengthen the national competitiveness.
X-ALT-DESC;FMTTYPE=text/html:<div style="clear:both\;"><span style="font-size:14px\;"><span style="font-family:arial\;">The Council is pleased to invite you&nbsp\;to participate in our Indonesia Innovation for Small Medium Enterprise (SME) Workshop&nbsp\;entitled <strong>&quot\;Innovation Without Limits: Advancing Indonesian Entrepreneurs Competitiveness&quot\;</strong>\, which will be held in Serpong\, South Tangerang\, Indonesia on October 3\, 2019.&nbsp\;<br />\n<br />\nThe&nbsp\;event will be conducted in close collaboration with The Research Center for Science and Technology (Pusat Penelitian Ilmu Pengetahuan dan Teknologi)\, a unit under the Ministry of Research\, Technology and Higher Education\, for its PUSPIPTEK Innovation Festival Indonesia 2019 entitled &ldquo\;Innovation without Limits&rdquo\; &ndash\; which aims at improving innovation and make it inclusive in society to strengthen the national competitiveness.</span></span></div>\n
LOCATION:Serpong\, Tangerang Selatan\, Indonesia
UID:e.9078.8027
SEQUENCE:3
DTSTAMP:20260424T231420Z
URL:http://memberzone.usasean.org/events/details/indonesia-innovation-for-sme-workshop-8027
END:VEVENT

END:VCALENDAR
