BEGIN:VCALENDAR
VERSION:2.0
PRODID:-//ChamberMaster//Event Calendar 2.0//EN
METHOD:PUBLISH
X-PUBLISHED-TTL:P3D
REFRESH-INTERVAL:P3D
CALSCALE:GREGORIAN
BEGIN:VEVENT
DTSTART:20150521T013000Z
DTEND:20150521T023000Z
X-MICROSOFT-CDO-ALLDAYEVENT:FALSE
SUMMARY:Indonesia Committee Quarterly Call
DESCRIPTION:Please join us for the second Indonesia Committee Quarterly call of 2015. During the call we will review the just completed Asia Pacific President's Mission to Jakarta which included a meeting with President Jokowi.  We will also discuss the committee's priorities and upcoming opportunities. If you have questions or would like to suggest an item to be discussed during the call please send input ahead of the call to Alex Stuart at astuart@usasean.org
X-ALT-DESC;FMTTYPE=text/html:<span style="font-size:14px\;"><span style="font-family:arial\,sans-serif\;"><span style="color:#000000\;">Please join us for the second Indonesia Committee Quarterly call of 2015. During the call we will review the just completed Asia Pacific President&rsquo\;s Mission to Jakarta which included a meeting with President Jokowi.&nbsp\; We will also discuss the committee&#39\;s priorities and upcoming opportunities.</span> I<span style="color:#000000\;">f you have questions or would like to suggest an item to be discussed during the call please send input ahead of the call to Alex Stuart at&nbsp\;</span><a href="mailto:astuart@usasean.org%20?subject=questions%2Fcomments%20about%202015%20draft%20work%20plan%20Indonesia"><span style="color:#000000\;">astuart@usasean.org&nbsp\;</span></a></span></span><br />\n&nbsp\;
LOCATION:Call in details will be provided ahead of the call to all registered participants.
UID:e.9078.1553
SEQUENCE:3
DTSTAMP:20260419T132027Z
URL:http://memberzone.usasean.org/events/details/indonesia-committee-quarterly-call-05-20-2015-1553
END:VEVENT

END:VCALENDAR
