BEGIN:VCALENDAR
VERSION:2.0
PRODID:-//ChamberMaster//Event Calendar 2.0//EN
METHOD:PUBLISH
X-PUBLISHED-TTL:P3D
REFRESH-INTERVAL:P3D
CALSCALE:GREGORIAN
BEGIN:VEVENT
DTSTART:20150212T010000Z
DTEND:20150212T020000Z
X-MICROSOFT-CDO-ALLDAYEVENT:FALSE
SUMMARY:Indonesia Committee Quarterly Call
DESCRIPTION:Please join us for the Indonesia Committee first Quarterly call of 2015. We will review the 2015 Work Plan and upcoming opportunities.  Please send input and questions ahead of time to Alex Stuart at astuart@usasean.org \n\n\n\nPlease register before COB Tuesday\, February 10\, 2015.
X-ALT-DESC;FMTTYPE=text/html:Please join us for the Indonesia Committee first Quarterly call of 2015. We will review the 2015 Work Plan and upcoming opportunities. &nbsp\;Please send input and questions ahead of time to Alex Stuart at <a href="mailto:astuart@usasean.org ">astuart@usasean.org&nbsp\;</a><br />\n<br />\nPlease register before COB Tuesday\, February 10\, 2015.&nbsp\;
LOCATION:Call in details: Dial-in number (U.S. and Canada): (877) 505-1427(877) 505-1427 International dial-in number: (281) 319-9194(281) 319-9194 Conference code: 5935755663
UID:e.9078.1355
SEQUENCE:3
DTSTAMP:20260419T203330Z
URL:http://memberzone.usasean.org/events/details/indonesia-committee-quarterly-call-02-11-2015-1355
END:VEVENT

END:VCALENDAR
