BEGIN:VCALENDAR
VERSION:2.0
PRODID:-//ChamberMaster//Event Calendar 2.0//EN
METHOD:PUBLISH
X-PUBLISHED-TTL:P3D
REFRESH-INTERVAL:P3D
CALSCALE:GREGORIAN
BEGIN:VEVENT
DTSTART:20141029T010000Z
DTEND:20141029T020000Z
X-MICROSOFT-CDO-ALLDAYEVENT:FALSE
SUMMARY:Indonesia Committee Call
DESCRIPTION:Please join us for an Indonesia Committee Call. During the call we will discuss the upcoming Business Mission to Jakarta from Decemer 9-11.
X-ALT-DESC;FMTTYPE=text/html:Please join us for an Indonesia Committee Call. During the call we will discuss the upcoming Business Mission to Jakarta from Decemer 9-11.&nbsp\;
LOCATION:Dial in provided upon registration.
UID:e.9078.1296
SEQUENCE:3
DTSTAMP:20260420T034613Z
URL:http://memberzone.usasean.org/events/details/indonesia-committee-call-10-28-2014-1296
END:VEVENT

END:VCALENDAR
