BEGIN:VCALENDAR
VERSION:2.0
PRODID:-//ChamberMaster//Event Calendar 2.0//EN
METHOD:PUBLISH
X-PUBLISHED-TTL:P3D
REFRESH-INTERVAL:P3D
CALSCALE:GREGORIAN
BEGIN:VEVENT
DTSTART:20200924T130000Z
DTEND:20200924T140000Z
X-MICROSOFT-CDO-ALLDAYEVENT:FALSE
SUMMARY:Indonesia Business Mission 1st Planning Call Feat Amb. Lutfi
DESCRIPTION:
X-ALT-DESC;FMTTYPE=text/html:
LOCATION:
UID:e.9078.8301
SEQUENCE:3
DTSTAMP:20260420T095821Z
URL:http://memberzone.usasean.org/events/details/indonesia-business-mission-1st-planning-call-feat-amb-lutfi-8301
END:VEVENT

END:VCALENDAR
