BEGIN:VCALENDAR
VERSION:2.0
PRODID:-//ChamberMaster//Event Calendar 2.0//EN
METHOD:PUBLISH
X-PUBLISHED-TTL:P3D
REFRESH-INTERVAL:P3D
CALSCALE:GREGORIAN
BEGIN:VEVENT
DTSTART:20211118T150000Z
DTEND:20211119T160000Z
X-MICROSOFT-CDO-ALLDAYEVENT:FALSE
SUMMARY:In-Person Meeting with Minister of Law & Human Rights\, Yasonna Laoly
DESCRIPTION:Meeting with Minister Yasonna Laoly\n\n			Minister of Law & Human Rights of Indonesia\n		\n		\n			Thursday\, November 18\, 2021\n\n			10:00 AM - 11:00 AM (EST) \n\n			\n\n			Location: U.S. Chamber of Commerce\n\n			1615 H Street\, NW\n\n			Washington\, DC 20062-2000
X-ALT-DESC;FMTTYPE=text/html:<table align="center" border="0" cellpadding="0" cellspacing="0" style="width:650px\;" width="650">\n	<tbody>\n		<tr>\n			<td style="padding:15.0pt 0in 15.0pt 0in\;"><strong><span style="letter-spacing:.75pt\;"><span style="color:#333333\;"><span style="font-family:arial\,sans-serif\;"><span style="font-size:16.0pt\;">Meeting with Minister Yasonna Laoly<br />\n			Minister of Law &amp\; Human Rights of Indonesia</span></span></span></span></strong></td>\n		</tr>\n		<tr>\n			<td style="padding:0in 0in 0in 0in\;"><strong><span style="font-family:arial\,sans-serif\;"><span style="font-size:12.0pt\;">Thursday\, November 18\, 2021</span></span></strong><br />\n			<span style="font-family:arial\,sans-serif\;"><span style="font-size:12.0pt\;">10:00 AM - 11:00 AM (EST)&nbsp\;</span></span><br />\n			<br />\n			<strong><span style="font-family:arial\,sans-serif\;"><span style="font-size:12.0pt\;">Location: U.S. Chamber of Commerce<br />\n			1615 H Street\, NW<br />\n			Washington\, DC 20062-2000</span></span></strong></td>\n		</tr>\n	</tbody>\n</table>\n\n<div style="clear:both\;">&nbsp\;</div>\n
LOCATION:
UID:e.9078.8641
SEQUENCE:3
DTSTAMP:20260419T124547Z
URL:http://memberzone.usasean.org/events/details/in-person-meeting-with-minister-of-law-human-rights-yasonna-laoly-8641
END:VEVENT

END:VCALENDAR
